BEGIN:VCALENDAR
VERSION:2.0
PRODID:-//TSV Ellwangen - ECPv4.7.1//NONSGML v1.0//EN
CALSCALE:GREGORIAN
METHOD:PUBLISH
X-WR-CALNAME:TSV Ellwangen
X-ORIGINAL-URL:https://www.tsv-ellwangen.de
X-WR-CALDESC:Veranstaltungen für TSV Ellwangen
BEGIN:VEVENT
DTSTART;TZID=Europe/Berlin:20260529T150000
DTEND;TZID=Europe/Berlin:20260531T200000
DTSTAMP:20260424T202605
CREATED:20251110T094406Z
LAST-MODIFIED:20260328T095341Z
UID:26597-1780066800-1780257600@www.tsv-ellwangen.de
SUMMARY:3x3 Turnier des TSV-Ellwangen
DESCRIPTION:3×3 Basketballturnier des TSV Ellwangen im Rahmen der Landesgartenschau 2026\nVom 29. bis 31. Mai 2026 wird Ellwangen ganz im Zeichen des Basketballs stehen! Der TSV Ellwangen lädt alle Basketballbegeisterten zum großen 3×3-Turnier ein – einem sportlichen Highlight im Rahmen der Landesgartenschau 2026. \nGespielt wird an drei Tagen auf zwei Spielfeldern – mitten in der Stadt auf dem Marktplatz und zusätzlich auf dem LGS-Gelände. Beide Plätze sind mit jeweils zwei Körben ausgestattet\, sodass parallel spannende Spiele stattfinden können. \nOb Vereinsmannschaften\, Hobbysportler oder Schülerteams – alle sind eingeladen\, Teil dieses besonderen Events zu werden. Neben sportlichem Ehrgeiz stehen vor allem Teamgeist\, Fairplay und Spaß am Spiel im Vordergrund. \nDas 3×3-Format\, die offizielle Disziplin des Weltbasketballverbandes FIBA\, sorgt mit schnellen Spielzügen\, kurzen Pausen und intensiver Atmosphäre für jede Menge Action und Zuschauerbegeisterung. \nWeitere Informationen zur Anmeldung\, Spielmodi und Zeitplan folgen in den kommenden Monaten. \nMerkt euch schon jetzt den Termin vor – 29. bis 31. Mai 2026 – und seid dabei\, wenn in Ellwangen der Ball über drei Tage im Takt der Landesgartenschau tanzt! \nWir halten euch unter https://www.tsv-ellwangen.de/3×3-turnier/ auf dem laufenden!  \nEine Anmeldung zum Turnier ist ab sofort möglich. https://docs.google.com/forms/d/e/1FAIpQLSdN6qrcWAss7dOEC4JzGEvt_vkyruTj0ntK812o8uSVw4Y50w/viewform?pli=1 \n
URL:https://www.tsv-ellwangen.de/event/26597/
LOCATION:Marktplatz Ellwangen\, Marktplatz Ellwangen\, Ellwangen\, 73479
ORGANIZER;CN="TSV%20MUSTANGS%20Basketball":MAILTO:mustangs@tsv-ellwangen.de
END:VEVENT
END:VCALENDAR