BEGIN:VCALENDAR
VERSION:2.0
PRODID:-//TSV Ellwangen - ECPv4.7.1//NONSGML v1.0//EN
CALSCALE:GREGORIAN
METHOD:PUBLISH
X-WR-CALNAME:TSV Ellwangen
X-ORIGINAL-URL:https://www.tsv-ellwangen.de
X-WR-CALDESC:Veranstaltungen für TSV Ellwangen
BEGIN:VEVENT
DTSTART;VALUE=DATE:20260513
DTEND;VALUE=DATE:20260515
DTSTAMP:20260420T134348
CREATED:20260420T073648Z
LAST-MODIFIED:20260420T073648Z
UID:27304-1778637600-1778723999@www.tsv-ellwangen.de
SUMMARY:Bundesweiter Trikottag
DESCRIPTION:👕 Trikot an und los: Der TSV wird sichtbar!\nAm 13. Mai ist es wieder soweit – der bundesweite Trikottag steht an! Das Ziel? Ganz einfach: Wir zeigen\, wie viel Sport und Leidenschaft in Ellwangen steckt\, indem wir unsere Vereinsfarben in den Alltag tragen. \nSo bist du dabei: Egal ob in der Schule\, in der Vorlesung\, am Arbeitsplatz oder beim Einkaufen in der Stadt – schmeiß dich am 13. Mai in dein TSV-Trikot oder dein liebstes Vereinsoutfit. Zeig allen\, dass dein Herz für den TSV schlägt! \nLass von dir hören! Wir wollen sehen\, wo unser Trikot überall auftaucht. Werde kreativ und lass uns teilhaben: \n\n\nPoste ein Foto oder ein kurzes Video in deiner Story. \n\n\nSchick uns einen kurzen „Fan-Report“ von deinem Tag im Trikot. \nSchick uns deine Fotos und Erlebnisse direkt per E-Mail an: oeffentlichkeitsarbeit@tsv-ellwangen.de \n\n\nMarkiere uns auf Social Media\, damit wir deinen Beitrag teilen können! \n\n\nHier triffst du uns online: 👉 Instagram: @tsv_ellwangen \n                                             👉 Facebook: TSV Ellwangen 1846 e.V. \nWir freuen uns auf eure Einsendungen und darauf\, Ellwangen am 13. Mai in unseren Farben zu sehen! 🔴⚪️ \nMehr Infos zur Aktion gibt’s auch beim DOSB. \n
URL:https://www.tsv-ellwangen.de/event/bundesweiter-trikottag/
CATEGORIES:Aktionen
END:VEVENT
END:VCALENDAR