BEGIN:VCALENDAR
VERSION:2.0
PRODID:-//TSV Ellwangen - ECPv4.7.1//NONSGML v1.0//EN
CALSCALE:GREGORIAN
METHOD:PUBLISH
X-WR-CALNAME:TSV Ellwangen
X-ORIGINAL-URL:https://www.tsv-ellwangen.de
X-WR-CALDESC:Veranstaltungen für TSV Ellwangen
BEGIN:VEVENT
DTSTART;TZID=Europe/Berlin:20260424T150000
DTEND;TZID=Europe/Berlin:20260424T170000
DTSTAMP:20260422T122656
CREATED:20260422T090509Z
LAST-MODIFIED:20260422T090509Z
UID:27327-1777042800-1777050000@www.tsv-ellwangen.de
SUMMARY:Einweihung der LGS-Beachvolleyballanlage
DESCRIPTION:
URL:https://www.tsv-ellwangen.de/event/einweihung-der-lgs-beachvolleyballanlage/
LOCATION:LGS Beachvolleyballanlage
CATEGORIES:TSV Veranstaltung
ATTACH;FMTTYPE=image/png:https://www.tsv-ellwangen.de/wp-content/uploads/2021/06/Logo_VB_Farbe_Standard-copy.png
END:VEVENT
END:VCALENDAR